BEGIN:VCALENDAR
VERSION:2.0
PRODID:-//Essu Koskinen - ECPv6.8.3//NONSGML v1.0//EN
CALSCALE:GREGORIAN
METHOD:PUBLISH
X-WR-CALNAME:Essu Koskinen
X-ORIGINAL-URL:https://www.koskinen.net
X-WR-CALDESC:Events for Essu Koskinen
REFRESH-INTERVAL;VALUE=DURATION:PT1H
X-Robots-Tag:noindex
X-PUBLISHED-TTL:PT1H
BEGIN:VTIMEZONE
TZID:Europe/Moscow
BEGIN:STANDARD
TZOFFSETFROM:+0300
TZOFFSETTO:+0300
TZNAME:MSK
DTSTART:20170101T000000
END:STANDARD
END:VTIMEZONE
BEGIN:VEVENT
DTSTART;VALUE=DATE:20170524
DTEND;VALUE=DATE:20170612
DTSTAMP:20260421T062628
CREATED:20170415T183408Z
LAST-MODIFIED:20170415T183535Z
UID:182-1495584000-1497225599@www.koskinen.net
SUMMARY:Exhibition/Näyttely: Galleria Uusi Kipinä\, Lahti\, Finland
DESCRIPTION:
URL:https://www.koskinen.net/event/exhibitionnayttely-galleria-uusi-kipina-lahti-finland/
LOCATION:Galleria Uusi Kipinä\, Kymintie 1\, Lahti\, 15140\, Finland
CATEGORIES:Exhibition,Näyttely
END:VEVENT
BEGIN:VEVENT
DTSTART;TZID=Europe/Moscow:20170523T180000
DTEND;TZID=Europe/Moscow:20170523T200000
DTSTAMP:20260421T062628
CREATED:20170414T114259Z
LAST-MODIFIED:20170415T173230Z
UID:146-1495562400-1495569600@www.koskinen.net
SUMMARY:Opening/Avajaiset: Galleria Uusi Kipinä\, Lahti\, Finland
DESCRIPTION:
URL:https://www.koskinen.net/event/avajaiset-galleria-uusi-kipina-lahti/
LOCATION:Galleria Uusi Kipinä\, Kymintie 1\, Lahti\, 15140\, Finland
CATEGORIES:Avajaiset,Opening
END:VEVENT
END:VCALENDAR