BEGIN:VCALENDAR
VERSION:2.0
PRODID:-//Essu Koskinen - ECPv6.8.3//NONSGML v1.0//EN
CALSCALE:GREGORIAN
METHOD:PUBLISH
X-WR-CALNAME:Essu Koskinen
X-ORIGINAL-URL:https://www.koskinen.net
X-WR-CALDESC:Events for Essu Koskinen
REFRESH-INTERVAL;VALUE=DURATION:PT1H
X-Robots-Tag:noindex
X-PUBLISHED-TTL:PT1H
BEGIN:VTIMEZONE
TZID:Europe/Moscow
BEGIN:STANDARD
TZOFFSETFROM:+0300
TZOFFSETTO:+0300
TZNAME:MSK
DTSTART:20170101T000000
END:STANDARD
END:VTIMEZONE
BEGIN:VEVENT
DTSTART;TZID=Europe/Moscow:20180605T110000
DTEND;TZID=Europe/Moscow:20180617T170000
DTSTAMP:20260421T020627
CREATED:20180425T171744Z
LAST-MODIFIED:20180425T171744Z
UID:675-1528196400-1529254800@www.koskinen.net
SUMMARY:Exhibition/Näyttely: Helsingin Tuomiokirkon Krypta
DESCRIPTION:
URL:https://www.koskinen.net/event/exhibition-nayttely-helsingin-tuomiokirkon-krypta/
LOCATION:Helsingin Tuomiokirkon Krypta\, Kirkkokatu 18\, Helsinki\, 00100\, Finland
CATEGORIES:Exhibition,Näyttely
END:VEVENT
BEGIN:VEVENT
DTSTART;VALUE=DATE:20180301
DTEND;VALUE=DATE:20180326
DTSTAMP:20260421T020627
CREATED:20171005T163856Z
LAST-MODIFIED:20171005T163856Z
UID:382-1519862400-1522022399@www.koskinen.net
SUMMARY:Exhibition/Näyttely: Tapiolan Kirkko\, Tapiola\, Finland
DESCRIPTION:
URL:https://www.koskinen.net/event/exhibitionnayttely-tapiolan-kirkko-tapiola-finland/
LOCATION:Tapiolan kirkko\, Kirkkopolku 6\, Espoo\, 02100\, Finland
CATEGORIES:Exhibition,Näyttely
END:VEVENT
BEGIN:VEVENT
DTSTART;VALUE=DATE:20171003
DTEND;VALUE=DATE:20171025
DTSTAMP:20260421T020627
CREATED:20170415T184808Z
LAST-MODIFIED:20170717T081914Z
UID:193-1506988800-1508889599@www.koskinen.net
SUMMARY:Exhibition/Näyttely: Järvenpää-talo\, Järvenpää\, Finland
DESCRIPTION:
URL:https://www.koskinen.net/event/exhibitionnayttely-jarvenpaa-talo-jarvenpaa-finland/
LOCATION:Järvenpää-talo\, Hallintokatu 4\, Järvenpää\, 04400\, Finland
CATEGORIES:Exhibition,Näyttely
END:VEVENT
BEGIN:VEVENT
DTSTART;VALUE=DATE:20170705
DTEND;VALUE=DATE:20170730
DTSTAMP:20260421T020627
CREATED:20170415T184320Z
LAST-MODIFIED:20170415T184320Z
UID:188-1499212800-1501372799@www.koskinen.net
SUMMARY:Exhibition/Näyttely: tm•galleria\, Helsinki\, Finland
DESCRIPTION:
URL:https://www.koskinen.net/event/exhibitionnayttely-tm%e2%80%a2galleria-helsinki-finland/
LOCATION:tm•galleria\, Erottajankatu 9 B\, Helsinki\, 00130\, Finland
CATEGORIES:Exhibition,Näyttely
END:VEVENT
BEGIN:VEVENT
DTSTART;VALUE=DATE:20170524
DTEND;VALUE=DATE:20170612
DTSTAMP:20260421T020627
CREATED:20170415T183408Z
LAST-MODIFIED:20170415T183535Z
UID:182-1495584000-1497225599@www.koskinen.net
SUMMARY:Exhibition/Näyttely: Galleria Uusi Kipinä\, Lahti\, Finland
DESCRIPTION:
URL:https://www.koskinen.net/event/exhibitionnayttely-galleria-uusi-kipina-lahti-finland/
LOCATION:Galleria Uusi Kipinä\, Kymintie 1\, Lahti\, 15140\, Finland
CATEGORIES:Exhibition,Näyttely
END:VEVENT
END:VCALENDAR